BEGIN:VCALENDAR
VERSION:2.0
PRODID:LFV Website-Kit
METHOD:PUBLISH
BEGIN:VEVENT
UID:lfv-443e5649-738e-4607-ae68-c3a9638b725f
LOCATION:Konrad-Adenauer-Str. 6 96215 Lichtenfels
SUMMARY:Hauptübung
DESCRIPTION:Hauptübung der FF-Lichtenfels\n\nTermin Link: https://www.feuerwehrlichtenfels.de/termine/hauptubung-12/
URL:https://www.feuerwehrlichtenfels.de/termine/hauptubung-12/
CLASS:PRIVATE
DTSTART;TZID=Europe/Berlin:20240620T190000
DTEND;TZID=Europe/Berlin:20240620T210000
DTSTAMP:20260423T084003Z
END:VEVENT
END:VCALENDAR