BEGIN:VCALENDAR
VERSION:2.0
PRODID:LFV Website-Kit
METHOD:PUBLISH
BEGIN:VEVENT
UID:lfv-f553e9e9-6180-4dc2-9105-949eb68ef518
LOCATION:Konrad-Adenauer-Str. 6 96215 Lichtenfels
SUMMARY:Hauptübung
DESCRIPTION:Hauptübung der FF-Lichtenfels\n\nTermin Link: https://www.feuerwehrlichtenfels.de/termine/hauptubung-15/
URL:https://www.feuerwehrlichtenfels.de/termine/hauptubung-15/
CLASS:PRIVATE
DTSTART;TZID=Europe/Berlin:20240801T190000
DTEND;TZID=Europe/Berlin:20240801T210000
DTSTAMP:20260421T101930Z
END:VEVENT
END:VCALENDAR