BEGIN:VCALENDAR
VERSION:2.0
PRODID:LFV Website-Kit
METHOD:PUBLISH
BEGIN:VEVENT
UID:lfv-cfd7289c-f3ca-4a0a-ae10-d92089b047b6
LOCATION:
SUMMARY:Hauptübung
DESCRIPTION:Hauptübung der FF-Lichtenfels\n\nTermin Link: https://www.feuerwehrlichtenfels.de/termine/hauptubung-25/
URL:https://www.feuerwehrlichtenfels.de/termine/hauptubung-25/
CLASS:PRIVATE
DTSTART;TZID=Europe/Berlin:20250102T190000
DTEND;TZID=Europe/Berlin:20250102T210000
DTSTAMP:20260421T002011Z
END:VEVENT
END:VCALENDAR