BEGIN:VCALENDAR
VERSION:2.0
PRODID:LFV Website-Kit
METHOD:PUBLISH
BEGIN:VEVENT
UID:lfv-dec5edcb-dbb7-49f9-89f5-0db62bbdf623
LOCATION:Konrad-Adenauer-Str.6  96215 Lichtenfels
SUMMARY:Jugendübung
DESCRIPTION:Jugendübung - Samstags (alle 14 Tage) ab 13:3O  Treffpunkt 13:2O\n\nTermin Link: https://www.feuerwehrlichtenfels.de/termine/jugendubung-40/
URL:https://www.feuerwehrlichtenfels.de/termine/jugendubung-40/
CLASS:PRIVATE
DTSTART;TZID=Europe/Berlin:20260228T133000
DTEND;TZID=Europe/Berlin:20260228T150000
DTSTAMP:20260421T084738Z
END:VEVENT
END:VCALENDAR