BEGIN:VCALENDAR
VERSION:2.0
PRODID:LFV Website-Kit
METHOD:PUBLISH
BEGIN:VEVENT
UID:lfv-c422e3b1-7d6b-4bd1-b1ea-64b19aa15999
LOCATION:Konrad-Adenauer-Str.6 96215 Lichtenfels
SUMMARY:Kinderübung
DESCRIPTION:Kinderübung - Samstags (alle 14 Tage) ab 13:30 Uhr Treffpunkt 13:20\n\nTermin Link: https://www.feuerwehrlichtenfels.de/termine/kinderubung-41/
URL:https://www.feuerwehrlichtenfels.de/termine/kinderubung-41/
CLASS:PRIVATE
DTSTART;TZID=Europe/Berlin:20250719T133000
DTEND;TZID=Europe/Berlin:20250719T150000
DTSTAMP:20260421T085819Z
END:VEVENT
END:VCALENDAR