BEGIN:VCALENDAR
VERSION:2.0
PRODID:LFV Website-Kit
METHOD:PUBLISH
BEGIN:VEVENT
UID:lfv-ff0eeb21-02d7-4405-ae55-b4ad3e76f0b7
LOCATION:Konrad-Adenauer-Str.6  96215 Lichtenfels
SUMMARY:Kinderübung
DESCRIPTION:Kinderübung - Samstags (alle 14 Tage) ab 13:3O  Treffpunkt 13:2O\n\nTermin Link: https://www.feuerwehrlichtenfels.de/termine/kinderubung-45/
URL:https://www.feuerwehrlichtenfels.de/termine/kinderubung-45/
CLASS:PRIVATE
DTSTART;TZID=Europe/Berlin:20260228T133000
DTEND;TZID=Europe/Berlin:20260228T150000
DTSTAMP:20260421T085709Z
END:VEVENT
END:VCALENDAR